BEGIN:VCALENDAR
VERSION:2.0
PRODID:-//Buffalo Prep - ECPv6.15.20//NONSGML v1.0//EN
CALSCALE:GREGORIAN
METHOD:PUBLISH
X-WR-CALNAME:Buffalo Prep
X-ORIGINAL-URL:https://buffaloprep.com
X-WR-CALDESC:Events for Buffalo Prep
REFRESH-INTERVAL;VALUE=DURATION:PT1H
X-Robots-Tag:noindex
X-PUBLISHED-TTL:PT1H
BEGIN:VTIMEZONE
TZID:America/New_York
BEGIN:DAYLIGHT
TZOFFSETFROM:-0500
TZOFFSETTO:-0400
TZNAME:EDT
DTSTART:20160313T070000
END:DAYLIGHT
BEGIN:STANDARD
TZOFFSETFROM:-0400
TZOFFSETTO:-0500
TZNAME:EST
DTSTART:20161106T060000
END:STANDARD
BEGIN:DAYLIGHT
TZOFFSETFROM:-0500
TZOFFSETTO:-0400
TZNAME:EDT
DTSTART:20170312T070000
END:DAYLIGHT
BEGIN:STANDARD
TZOFFSETFROM:-0400
TZOFFSETTO:-0500
TZNAME:EST
DTSTART:20171105T060000
END:STANDARD
BEGIN:DAYLIGHT
TZOFFSETFROM:-0500
TZOFFSETTO:-0400
TZNAME:EDT
DTSTART:20180311T070000
END:DAYLIGHT
BEGIN:STANDARD
TZOFFSETFROM:-0400
TZOFFSETTO:-0500
TZNAME:EST
DTSTART:20181104T060000
END:STANDARD
END:VTIMEZONE
BEGIN:VEVENT
DTSTART;TZID=America/New_York:20170406T173000
DTEND;TZID=America/New_York:20170406T190000
DTSTAMP:20260422T150858
CREATED:20170314T131325Z
LAST-MODIFIED:20170314T131325Z
UID:23245-1491499800-1491505200@buffaloprep.com
SUMMARY:Prep Chat
DESCRIPTION:
URL:https://buffaloprep.com/event/prep-chat/
LOCATION:NY
CATEGORIES:College Prep
END:VEVENT
BEGIN:VEVENT
DTSTART;VALUE=DATE:20170410
DTEND;VALUE=DATE:20170418
DTSTAMP:20260422T150858
CREATED:20170313T174804Z
LAST-MODIFIED:20170313T174804Z
UID:23199-1491782400-1492473599@buffaloprep.com
SUMMARY:Spring Break
DESCRIPTION:No college prep tutorial classes will be held from Monday\, 10 April through Monday\, 17 April 2017 for spring break.
URL:https://buffaloprep.com/event/spring-break/
LOCATION:NY
CATEGORIES:College Prep
END:VEVENT
BEGIN:VEVENT
DTSTART;TZID=America/New_York:20170419T160000
DTEND;TZID=America/New_York:20170419T180000
DTSTAMP:20260422T150858
CREATED:20170314T131917Z
LAST-MODIFIED:20170314T131917Z
UID:23247-1492617600-1492624800@buffaloprep.com
SUMMARY:College Prep Student and Staff Mixer
DESCRIPTION:
URL:https://buffaloprep.com/event/college-prep-student-and-staff-mixer/
LOCATION:NY
CATEGORIES:College Prep
END:VEVENT
BEGIN:VEVENT
DTSTART;TZID=America/New_York:20170420T170000
DTEND;TZID=America/New_York:20170420T190000
DTSTAMP:20260422T150858
CREATED:20170314T131959Z
LAST-MODIFIED:20170314T131959Z
UID:23249-1492707600-1492714800@buffaloprep.com
SUMMARY:Prep Chat (Special Guest Speakers)
DESCRIPTION:
URL:https://buffaloprep.com/event/prep-chat-special-guest-speakers/
LOCATION:NY
CATEGORIES:College Prep
END:VEVENT
BEGIN:VEVENT
DTSTART;TZID=America/New_York:20170427T170000
DTEND;TZID=America/New_York:20170427T190000
DTSTAMP:20260422T150858
CREATED:20170314T132047Z
LAST-MODIFIED:20170314T132047Z
UID:23251-1493312400-1493319600@buffaloprep.com
SUMMARY:Prep Chat (Special Guest Speakers)
DESCRIPTION:
URL:https://buffaloprep.com/event/prep-chat-special-guest-speakers-2/
LOCATION:NY
CATEGORIES:College Prep
END:VEVENT
END:VCALENDAR