BEGIN:VCALENDAR
VERSION:2.0
PRODID:-//Buffalo Prep - ECPv6.15.20//NONSGML v1.0//EN
CALSCALE:GREGORIAN
METHOD:PUBLISH
X-ORIGINAL-URL:https://buffaloprep.com
X-WR-CALDESC:Events for Buffalo Prep
REFRESH-INTERVAL;VALUE=DURATION:PT1H
X-Robots-Tag:noindex
X-PUBLISHED-TTL:PT1H
BEGIN:VTIMEZONE
TZID:America/New_York
BEGIN:DAYLIGHT
TZOFFSETFROM:-0500
TZOFFSETTO:-0400
TZNAME:EDT
DTSTART:20170312T070000
END:DAYLIGHT
BEGIN:STANDARD
TZOFFSETFROM:-0400
TZOFFSETTO:-0500
TZNAME:EST
DTSTART:20171105T060000
END:STANDARD
BEGIN:DAYLIGHT
TZOFFSETFROM:-0500
TZOFFSETTO:-0400
TZNAME:EDT
DTSTART:20180311T070000
END:DAYLIGHT
BEGIN:STANDARD
TZOFFSETFROM:-0400
TZOFFSETTO:-0500
TZNAME:EST
DTSTART:20181104T060000
END:STANDARD
BEGIN:DAYLIGHT
TZOFFSETFROM:-0500
TZOFFSETTO:-0400
TZNAME:EDT
DTSTART:20190310T070000
END:DAYLIGHT
BEGIN:STANDARD
TZOFFSETFROM:-0400
TZOFFSETTO:-0500
TZNAME:EST
DTSTART:20191103T060000
END:STANDARD
END:VTIMEZONE
BEGIN:VEVENT
DTSTART;TZID=America/New_York:20180103T150000
DTEND;TZID=America/New_York:20180103T190000
DTSTAMP:20260423T014824
CREATED:20170828T151554Z
LAST-MODIFIED:20170828T151554Z
UID:24115-1514991600-1515006000@buffaloprep.com
SUMMARY:College Prep Tutorial
DESCRIPTION:
URL:https://buffaloprep.com/event/college-prep-tutorial-8/2018-01-03/
LOCATION:The Park Country Club\, 4949 Sheridan Drive\, Williamsville\, NY\, 14221\, United States
CATEGORIES:College Prep
GEO:42.9500876;-78.8196215
X-APPLE-STRUCTURED-LOCATION;VALUE=URI;X-ADDRESS=The Park Country Club 4949 Sheridan Drive Williamsville NY 14221 United States;X-APPLE-RADIUS=500;X-TITLE=4949 Sheridan Drive:geo:-78.8196215,42.9500876
END:VEVENT
BEGIN:VEVENT
DTSTART;TZID=America/New_York:20180108T150000
DTEND;TZID=America/New_York:20180108T190000
DTSTAMP:20260423T014824
CREATED:20170828T151737Z
LAST-MODIFIED:20170828T151737Z
UID:24117-1515423600-1515438000@buffaloprep.com
SUMMARY:College Prep Tutorial
DESCRIPTION:
URL:https://buffaloprep.com/event/college-prep-tutorial-9/2018-01-08/
LOCATION:The Park Country Club\, 4949 Sheridan Drive\, Williamsville\, NY\, 14221\, United States
CATEGORIES:College Prep
GEO:42.9500876;-78.8196215
X-APPLE-STRUCTURED-LOCATION;VALUE=URI;X-ADDRESS=The Park Country Club 4949 Sheridan Drive Williamsville NY 14221 United States;X-APPLE-RADIUS=500;X-TITLE=4949 Sheridan Drive:geo:-78.8196215,42.9500876
END:VEVENT
BEGIN:VEVENT
DTSTART;TZID=America/New_York:20180113T080000
DTEND;TZID=America/New_York:20180113T170000
DTSTAMP:20260423T014824
CREATED:20170824T160343Z
LAST-MODIFIED:20170824T160343Z
UID:23798-1515830400-1515862800@buffaloprep.com
SUMMARY:No High School Prep Classes\, No Tutorial
DESCRIPTION:
URL:https://buffaloprep.com/event/no-high-school-prep-classes-no-tutorial/
LOCATION:The Park Country Club\, 4949 Sheridan Drive\, Williamsville\, NY\, 14221\, United States
CATEGORIES:College Prep,High School Prep
GEO:42.9500876;-78.8196215
X-APPLE-STRUCTURED-LOCATION;VALUE=URI;X-ADDRESS=The Park Country Club 4949 Sheridan Drive Williamsville NY 14221 United States;X-APPLE-RADIUS=500;X-TITLE=4949 Sheridan Drive:geo:-78.8196215,42.9500876
END:VEVENT
BEGIN:VEVENT
DTSTART;TZID=America/New_York:20180115T150000
DTEND;TZID=America/New_York:20180115T190000
DTSTAMP:20260423T014824
CREATED:20170828T152434Z
LAST-MODIFIED:20170828T152434Z
UID:24141-1516028400-1516042800@buffaloprep.com
SUMMARY:No College Prep Tutorial
DESCRIPTION:
URL:https://buffaloprep.com/event/no-college-prep-tutorial-3/
LOCATION:The Park Country Club\, 4949 Sheridan Drive\, Williamsville\, NY\, 14221\, United States
CATEGORIES:College Prep
GEO:42.9500876;-78.8196215
X-APPLE-STRUCTURED-LOCATION;VALUE=URI;X-ADDRESS=The Park Country Club 4949 Sheridan Drive Williamsville NY 14221 United States;X-APPLE-RADIUS=500;X-TITLE=4949 Sheridan Drive:geo:-78.8196215,42.9500876
END:VEVENT
END:VCALENDAR