BEGIN:VCALENDAR
VERSION:2.0
PRODID:-//Buffalo Prep - ECPv6.15.20//NONSGML v1.0//EN
CALSCALE:GREGORIAN
METHOD:PUBLISH
X-WR-CALNAME:Buffalo Prep
X-ORIGINAL-URL:https://buffaloprep.com
X-WR-CALDESC:Events for Buffalo Prep
REFRESH-INTERVAL;VALUE=DURATION:PT1H
X-Robots-Tag:noindex
X-PUBLISHED-TTL:PT1H
BEGIN:VTIMEZONE
TZID:America/New_York
BEGIN:DAYLIGHT
TZOFFSETFROM:-0500
TZOFFSETTO:-0400
TZNAME:EDT
DTSTART:20170312T070000
END:DAYLIGHT
BEGIN:STANDARD
TZOFFSETFROM:-0400
TZOFFSETTO:-0500
TZNAME:EST
DTSTART:20171105T060000
END:STANDARD
BEGIN:DAYLIGHT
TZOFFSETFROM:-0500
TZOFFSETTO:-0400
TZNAME:EDT
DTSTART:20180311T070000
END:DAYLIGHT
BEGIN:STANDARD
TZOFFSETFROM:-0400
TZOFFSETTO:-0500
TZNAME:EST
DTSTART:20181104T060000
END:STANDARD
BEGIN:DAYLIGHT
TZOFFSETFROM:-0500
TZOFFSETTO:-0400
TZNAME:EDT
DTSTART:20190310T070000
END:DAYLIGHT
BEGIN:STANDARD
TZOFFSETFROM:-0400
TZOFFSETTO:-0500
TZNAME:EST
DTSTART:20191103T060000
END:STANDARD
END:VTIMEZONE
BEGIN:VEVENT
DTSTART;TZID=America/New_York:20181101T163000
DTEND;TZID=America/New_York:20181101T173000
DTSTAMP:20260423T213334
CREATED:20180913T165258Z
LAST-MODIFIED:20180913T165258Z
UID:25375-1541089800-1541093400@buffaloprep.com
SUMMARY:College Prep - Skidmore College Representative Visit
DESCRIPTION:
URL:https://buffaloprep.com/event/college-prep-skidmore-college-representative-visit/
LOCATION:Buffalo Prep
CATEGORIES:College Prep
END:VEVENT
BEGIN:VEVENT
DTSTART;VALUE=DATE:20181122
DTEND;VALUE=DATE:20181123
DTSTAMP:20260423T213334
CREATED:20180913T165948Z
LAST-MODIFIED:20180913T190943Z
UID:25383-1542844800-1542931199@buffaloprep.com
SUMMARY:Buffalo Prep Closed
DESCRIPTION:
URL:https://buffaloprep.com/event/buffalo-prep-closed/2018-11-22/
LOCATION:Buffalo Prep\, Allen Hall - University at Buffalo South Campus\, Buffalo\, NY\, 14214\, United States
CATEGORIES:College Prep,High School Prep,Holidays
GEO:42.9334868;-78.8439268
X-APPLE-STRUCTURED-LOCATION;VALUE=URI;X-ADDRESS=Buffalo Prep Allen Hall - University at Buffalo South Campus Buffalo NY 14214 United States;X-APPLE-RADIUS=500;X-TITLE=Allen Hall - University at Buffalo South Campus:geo:-78.8439268,42.9334868
END:VEVENT
BEGIN:VEVENT
DTSTART;TZID=America/New_York:20181129T180000
DTEND;TZID=America/New_York:20181129T190000
DTSTAMP:20260423T213334
CREATED:20181024T140838Z
LAST-MODIFIED:20181024T140838Z
UID:25577-1543514400-1543518000@buffaloprep.com
SUMMARY:Family Council Meeting
DESCRIPTION:All parents of students who are enrolled in any Buffalo Prep program are welcome to attend!
URL:https://buffaloprep.com/event/family-council-meeting/2018-11-29/
LOCATION:Buffalo Prep\, Allen Hall - University at Buffalo South Campus\, Buffalo\, NY\, 14214\, United States
CATEGORIES:College Prep,High School Prep,Middle School Prep
GEO:42.9334868;-78.8439268
X-APPLE-STRUCTURED-LOCATION;VALUE=URI;X-ADDRESS=Buffalo Prep Allen Hall - University at Buffalo South Campus Buffalo NY 14214 United States;X-APPLE-RADIUS=500;X-TITLE=Allen Hall - University at Buffalo South Campus:geo:-78.8439268,42.9334868
END:VEVENT
END:VCALENDAR