BEGIN:VCALENDAR
VERSION:2.0
PRODID:-//Buffalo Prep - ECPv6.15.20//NONSGML v1.0//EN
CALSCALE:GREGORIAN
METHOD:PUBLISH
X-ORIGINAL-URL:https://buffaloprep.com
X-WR-CALDESC:Events for Buffalo Prep
REFRESH-INTERVAL;VALUE=DURATION:PT1H
X-Robots-Tag:noindex
X-PUBLISHED-TTL:PT1H
BEGIN:VTIMEZONE
TZID:America/New_York
BEGIN:DAYLIGHT
TZOFFSETFROM:-0500
TZOFFSETTO:-0400
TZNAME:EDT
DTSTART:20180311T070000
END:DAYLIGHT
BEGIN:STANDARD
TZOFFSETFROM:-0400
TZOFFSETTO:-0500
TZNAME:EST
DTSTART:20181104T060000
END:STANDARD
BEGIN:DAYLIGHT
TZOFFSETFROM:-0500
TZOFFSETTO:-0400
TZNAME:EDT
DTSTART:20190310T070000
END:DAYLIGHT
BEGIN:STANDARD
TZOFFSETFROM:-0400
TZOFFSETTO:-0500
TZNAME:EST
DTSTART:20191103T060000
END:STANDARD
BEGIN:DAYLIGHT
TZOFFSETFROM:-0500
TZOFFSETTO:-0400
TZNAME:EDT
DTSTART:20200308T070000
END:DAYLIGHT
BEGIN:STANDARD
TZOFFSETFROM:-0400
TZOFFSETTO:-0500
TZNAME:EST
DTSTART:20201101T060000
END:STANDARD
END:VTIMEZONE
BEGIN:VEVENT
DTSTART;TZID=America/New_York:20190211T150000
DTEND;TZID=America/New_York:20190211T190000
DTSTAMP:20260424T031346
CREATED:20190211T183618Z
LAST-MODIFIED:20190211T183618Z
UID:27175-1549897200-1549911600@buffaloprep.com
SUMMARY:College Prep Tutorial
DESCRIPTION:
URL:https://buffaloprep.com/event/college-prep-tutorial-19/2019-02-11/
LOCATION:Buffalo Prep\, NY
CATEGORIES:College Prep
GEO:40.7127753;-74.0059728
END:VEVENT
BEGIN:VEVENT
DTSTART;TZID=America/New_York:20190211T163000
DTEND;TZID=America/New_York:20190211T183000
DTSTAMP:20260424T031346
CREATED:20190211T184006Z
LAST-MODIFIED:20190211T184006Z
UID:27235-1549902600-1549909800@buffaloprep.com
SUMMARY:SAT Prep Class
DESCRIPTION:
URL:https://buffaloprep.com/event/sat-prep-class/2019-02-11/
LOCATION:Buffalo Prep\, 18 Acheson Annex\, Buffalo\, NY\, 14214
CATEGORIES:College Prep
GEO:42.9334868;-78.8439268
X-APPLE-STRUCTURED-LOCATION;VALUE=URI;X-ADDRESS=Buffalo Prep 18 Acheson Annex Buffalo NY 14214;X-APPLE-RADIUS=500;X-TITLE=18 Acheson Annex:geo:-78.8439268,42.9334868
END:VEVENT
BEGIN:VEVENT
DTSTART;TZID=America/New_York:20190212T170000
DTEND;TZID=America/New_York:20190212T183000
DTSTAMP:20260424T031346
CREATED:20190211T184315Z
LAST-MODIFIED:20190211T184315Z
UID:27247-1549990800-1549996200@buffaloprep.com
SUMMARY:High School Prep Graduates Senior Class Meeting
DESCRIPTION:
URL:https://buffaloprep.com/event/high-school-prep-graduates-senior-class-meeting/
LOCATION:Buffalo Prep\, 18 Acheson Annex\, Buffalo\, NY\, 14214
CATEGORIES:College Prep
GEO:42.9334868;-78.8439268
X-APPLE-STRUCTURED-LOCATION;VALUE=URI;X-ADDRESS=Buffalo Prep 18 Acheson Annex Buffalo NY 14214;X-APPLE-RADIUS=500;X-TITLE=18 Acheson Annex:geo:-78.8439268,42.9334868
END:VEVENT
BEGIN:VEVENT
DTSTART;TZID=America/New_York:20190216T090000
DTEND;TZID=America/New_York:20190216T130000
DTSTAMP:20260424T031346
CREATED:20190211T184131Z
LAST-MODIFIED:20190211T184131Z
UID:27243-1550307600-1550322000@buffaloprep.com
SUMMARY:SAT Prep Class
DESCRIPTION:
URL:https://buffaloprep.com/event/sat-prep-class-2/2019-02-16/
LOCATION:The Park Country Club\, 4949 Sheridan Drive\, Williamsville\, NY\, 14221\, United States
CATEGORIES:College Prep
GEO:42.9500876;-78.8196215
X-APPLE-STRUCTURED-LOCATION;VALUE=URI;X-ADDRESS=The Park Country Club 4949 Sheridan Drive Williamsville NY 14221 United States;X-APPLE-RADIUS=500;X-TITLE=4949 Sheridan Drive:geo:-78.8196215,42.9500876
END:VEVENT
END:VCALENDAR