BEGIN:VCALENDAR
VERSION:2.0
PRODID:-//Buffalo Prep - ECPv6.15.20//NONSGML v1.0//EN
CALSCALE:GREGORIAN
METHOD:PUBLISH
X-WR-CALNAME:Buffalo Prep
X-ORIGINAL-URL:https://buffaloprep.com
X-WR-CALDESC:Events for Buffalo Prep
REFRESH-INTERVAL;VALUE=DURATION:PT1H
X-Robots-Tag:noindex
X-PUBLISHED-TTL:PT1H
BEGIN:VTIMEZONE
TZID:America/New_York
BEGIN:DAYLIGHT
TZOFFSETFROM:-0500
TZOFFSETTO:-0400
TZNAME:EDT
DTSTART:20180311T070000
END:DAYLIGHT
BEGIN:STANDARD
TZOFFSETFROM:-0400
TZOFFSETTO:-0500
TZNAME:EST
DTSTART:20181104T060000
END:STANDARD
BEGIN:DAYLIGHT
TZOFFSETFROM:-0500
TZOFFSETTO:-0400
TZNAME:EDT
DTSTART:20190310T070000
END:DAYLIGHT
BEGIN:STANDARD
TZOFFSETFROM:-0400
TZOFFSETTO:-0500
TZNAME:EST
DTSTART:20191103T060000
END:STANDARD
BEGIN:DAYLIGHT
TZOFFSETFROM:-0500
TZOFFSETTO:-0400
TZNAME:EDT
DTSTART:20200308T070000
END:DAYLIGHT
BEGIN:STANDARD
TZOFFSETFROM:-0400
TZOFFSETTO:-0500
TZNAME:EST
DTSTART:20201101T060000
END:STANDARD
END:VTIMEZONE
BEGIN:VEVENT
DTSTART;TZID=America/New_York:20191008T160000
DTEND;TZID=America/New_York:20191008T170000
DTSTAMP:20260424T230519
CREATED:20190927T150512Z
LAST-MODIFIED:20190927T150512Z
UID:27727-1570550400-1570554000@buffaloprep.com
SUMMARY:Merrimack College Visit
DESCRIPTION:
URL:https://buffaloprep.com/event/merrimack-college-visit/
LOCATION:Buffalo Prep\, 18 Acheson Annex\, Buffalo\, NY\, 14214
CATEGORIES:College Prep
GEO:42.9334868;-78.8439268
X-APPLE-STRUCTURED-LOCATION;VALUE=URI;X-ADDRESS=Buffalo Prep 18 Acheson Annex Buffalo NY 14214;X-APPLE-RADIUS=500;X-TITLE=18 Acheson Annex:geo:-78.8439268,42.9334868
END:VEVENT
BEGIN:VEVENT
DTSTART;TZID=America/New_York:20191008T180000
DTEND;TZID=America/New_York:20191008T193000
DTSTAMP:20260424T230519
CREATED:20190927T150632Z
LAST-MODIFIED:20190927T150632Z
UID:27730-1570557600-1570563000@buffaloprep.com
SUMMARY:Financial Aid Night
DESCRIPTION:
URL:https://buffaloprep.com/event/financial-aid-night/
LOCATION:Buffalo Prep\, 18 Acheson Annex\, Buffalo\, NY\, 14214
CATEGORIES:College Prep
GEO:42.9334868;-78.8439268
X-APPLE-STRUCTURED-LOCATION;VALUE=URI;X-ADDRESS=Buffalo Prep 18 Acheson Annex Buffalo NY 14214;X-APPLE-RADIUS=500;X-TITLE=18 Acheson Annex:geo:-78.8439268,42.9334868
END:VEVENT
BEGIN:VEVENT
DTSTART;TZID=America/New_York:20191010T173000
DTEND;TZID=America/New_York:20191010T190000
DTSTAMP:20260424T230519
CREATED:20190919T163841Z
LAST-MODIFIED:20190919T163841Z
UID:27663-1570728600-1570734000@buffaloprep.com
SUMMARY:Prep Chat
DESCRIPTION:
URL:https://buffaloprep.com/event/prep-chat-7/2019-10-10/
LOCATION:Buffalo Prep\, 18 Acheson Annex\, Buffalo\, NY\, 14214
CATEGORIES:College Prep
GEO:42.9334868;-78.8439268
X-APPLE-STRUCTURED-LOCATION;VALUE=URI;X-ADDRESS=Buffalo Prep 18 Acheson Annex Buffalo NY 14214;X-APPLE-RADIUS=500;X-TITLE=18 Acheson Annex:geo:-78.8439268,42.9334868
END:VEVENT
BEGIN:VEVENT
DTSTART;VALUE=DATE:20191014
DTEND;VALUE=DATE:20191015
DTSTAMP:20260424T230519
CREATED:20190927T151908Z
LAST-MODIFIED:20190927T151908Z
UID:27744-1571011200-1571097599@buffaloprep.com
SUMMARY:Office and Programming Services Closed
DESCRIPTION:
URL:https://buffaloprep.com/event/office-and-programming-services-closed/
LOCATION:Buffalo Prep\, NY
CATEGORIES:College Prep,Holidays
GEO:40.7127753;-74.0059728
END:VEVENT
BEGIN:VEVENT
DTSTART;TZID=America/New_York:20191017T163000
DTEND;TZID=America/New_York:20191017T173000
DTSTAMP:20260424T230519
CREATED:20190927T151013Z
LAST-MODIFIED:20190927T151013Z
UID:27733-1571329800-1571333400@buffaloprep.com
SUMMARY:Canisius College Visit
DESCRIPTION:
URL:https://buffaloprep.com/event/canisius-college-visit/
LOCATION:Buffalo Prep\, 18 Acheson Annex\, Buffalo\, NY\, 14214
CATEGORIES:College Prep
GEO:42.9334868;-78.8439268
X-APPLE-STRUCTURED-LOCATION;VALUE=URI;X-ADDRESS=Buffalo Prep 18 Acheson Annex Buffalo NY 14214;X-APPLE-RADIUS=500;X-TITLE=18 Acheson Annex:geo:-78.8439268,42.9334868
END:VEVENT
BEGIN:VEVENT
DTSTART;TZID=America/New_York:20191021T160000
DTEND;TZID=America/New_York:20191021T170000
DTSTAMP:20260424T230519
CREATED:20190927T151212Z
LAST-MODIFIED:20190927T151212Z
UID:27736-1571673600-1571677200@buffaloprep.com
SUMMARY:Union College Visit
DESCRIPTION:
URL:https://buffaloprep.com/event/union-college-visit/
LOCATION:Buffalo Prep\, 18 Acheson Annex\, Buffalo\, NY\, 14214
CATEGORIES:College Prep
GEO:42.9334868;-78.8439268
X-APPLE-STRUCTURED-LOCATION;VALUE=URI;X-ADDRESS=Buffalo Prep 18 Acheson Annex Buffalo NY 14214;X-APPLE-RADIUS=500;X-TITLE=18 Acheson Annex:geo:-78.8439268,42.9334868
END:VEVENT
BEGIN:VEVENT
DTSTART;TZID=America/New_York:20191022T160000
DTEND;TZID=America/New_York:20191022T170000
DTSTAMP:20260424T230519
CREATED:20190927T151333Z
LAST-MODIFIED:20190927T151333Z
UID:27739-1571760000-1571763600@buffaloprep.com
SUMMARY:Tufts University Visit
DESCRIPTION:
URL:https://buffaloprep.com/event/tufts-university-visit/
LOCATION:The Park Country Club\, 4949 Sheridan Drive\, Williamsville\, NY\, 14221\, United States
CATEGORIES:College Prep
GEO:42.9500876;-78.8196215
X-APPLE-STRUCTURED-LOCATION;VALUE=URI;X-ADDRESS=The Park Country Club 4949 Sheridan Drive Williamsville NY 14221 United States;X-APPLE-RADIUS=500;X-TITLE=4949 Sheridan Drive:geo:-78.8196215,42.9500876
END:VEVENT
END:VCALENDAR