BEGIN:VCALENDAR
VERSION:2.0
PRODID:-//Buffalo Prep - ECPv6.15.20//NONSGML v1.0//EN
CALSCALE:GREGORIAN
METHOD:PUBLISH
X-ORIGINAL-URL:https://buffaloprep.com
X-WR-CALDESC:Events for Buffalo Prep
REFRESH-INTERVAL;VALUE=DURATION:PT1H
X-Robots-Tag:noindex
X-PUBLISHED-TTL:PT1H
BEGIN:VTIMEZONE
TZID:America/New_York
BEGIN:DAYLIGHT
TZOFFSETFROM:-0500
TZOFFSETTO:-0400
TZNAME:EDT
DTSTART:20170312T070000
END:DAYLIGHT
BEGIN:STANDARD
TZOFFSETFROM:-0400
TZOFFSETTO:-0500
TZNAME:EST
DTSTART:20171105T060000
END:STANDARD
BEGIN:DAYLIGHT
TZOFFSETFROM:-0500
TZOFFSETTO:-0400
TZNAME:EDT
DTSTART:20180311T070000
END:DAYLIGHT
BEGIN:STANDARD
TZOFFSETFROM:-0400
TZOFFSETTO:-0500
TZNAME:EST
DTSTART:20181104T060000
END:STANDARD
BEGIN:DAYLIGHT
TZOFFSETFROM:-0500
TZOFFSETTO:-0400
TZNAME:EDT
DTSTART:20190310T070000
END:DAYLIGHT
BEGIN:STANDARD
TZOFFSETFROM:-0400
TZOFFSETTO:-0500
TZNAME:EST
DTSTART:20191103T060000
END:STANDARD
END:VTIMEZONE
BEGIN:VEVENT
DTSTART;TZID=America/New_York:20181004T170000
DTEND;TZID=America/New_York:20181004T190000
DTSTAMP:20260423T201301
CREATED:20180925T190534Z
LAST-MODIFIED:20180925T190534Z
UID:25538-1538672400-1538679600@buffaloprep.com
SUMMARY:Prep Chat
DESCRIPTION:
URL:https://buffaloprep.com/event/prep-chat-5/2018-10-04/
LOCATION:Buffalo Prep
CATEGORIES:College Prep
END:VEVENT
BEGIN:VEVENT
DTSTART;TZID=America/New_York:20181004T180000
DTEND;TZID=America/New_York:20181004T190000
DTSTAMP:20260423T201301
CREATED:20180913T163737Z
LAST-MODIFIED:20180913T163737Z
UID:25358-1538676000-1538679600@buffaloprep.com
SUMMARY:College Prep - Financing Your College Education
DESCRIPTION:
URL:https://buffaloprep.com/event/college-prep-financing-your-college-education/
LOCATION:190 Kapoor Hall\, UB South Campus\, Buffalo\, NY\, 14214
CATEGORIES:College Prep
GEO:42.9534312;-78.8182286
X-APPLE-STRUCTURED-LOCATION;VALUE=URI;X-ADDRESS=190 Kapoor Hall UB South Campus Buffalo NY 14214;X-APPLE-RADIUS=500;X-TITLE=UB South Campus:geo:-78.8182286,42.9534312
END:VEVENT
END:VCALENDAR