BEGIN:VCALENDAR
VERSION:2.0
PRODID:-//Buffalo Prep - ECPv6.15.20//NONSGML v1.0//EN
CALSCALE:GREGORIAN
METHOD:PUBLISH
X-WR-CALNAME:Buffalo Prep
X-ORIGINAL-URL:https://buffaloprep.com
X-WR-CALDESC:Events for Buffalo Prep
REFRESH-INTERVAL;VALUE=DURATION:PT1H
X-Robots-Tag:noindex
X-PUBLISHED-TTL:PT1H
BEGIN:VTIMEZONE
TZID:America/New_York
BEGIN:DAYLIGHT
TZOFFSETFROM:-0500
TZOFFSETTO:-0400
TZNAME:EDT
DTSTART:20170312T070000
END:DAYLIGHT
BEGIN:STANDARD
TZOFFSETFROM:-0400
TZOFFSETTO:-0500
TZNAME:EST
DTSTART:20171105T060000
END:STANDARD
BEGIN:DAYLIGHT
TZOFFSETFROM:-0500
TZOFFSETTO:-0400
TZNAME:EDT
DTSTART:20180311T070000
END:DAYLIGHT
BEGIN:STANDARD
TZOFFSETFROM:-0400
TZOFFSETTO:-0500
TZNAME:EST
DTSTART:20181104T060000
END:STANDARD
BEGIN:DAYLIGHT
TZOFFSETFROM:-0500
TZOFFSETTO:-0400
TZNAME:EDT
DTSTART:20190310T070000
END:DAYLIGHT
BEGIN:STANDARD
TZOFFSETFROM:-0400
TZOFFSETTO:-0500
TZNAME:EST
DTSTART:20191103T060000
END:STANDARD
END:VTIMEZONE
BEGIN:VEVENT
DTSTART;TZID=America/New_York:20181008T083000
DTEND;TZID=America/New_York:20181008T140000
DTSTAMP:20260423T213535
CREATED:20180913T174357Z
LAST-MODIFIED:20180913T174357Z
UID:25470-1538987400-1539007200@buffaloprep.com
SUMMARY:Ad Club Day With AAF Buffalo
DESCRIPTION:Buffalo Prep and the American Advertising Federation of Buffalo present the 3rd Annual Buffalo Prep Ad Day where students will explore the world of advertising right in downtown Buffalo.  Students will spend the day learning about different roles in marketing agencies and putting their skills to work! Students who are interested should RSVP with Ms. Alexys.
URL:https://buffaloprep.com/event/ad-club-day-with-aaf-buffalo/
LOCATION:NY
CATEGORIES:College Prep
GEO:40.7127753;-74.0059728
END:VEVENT
END:VCALENDAR