BEGIN:VCALENDAR
VERSION:2.0
PRODID:-//Buffalo Prep - ECPv6.15.20//NONSGML v1.0//EN
CALSCALE:GREGORIAN
METHOD:PUBLISH
X-ORIGINAL-URL:https://buffaloprep.com
X-WR-CALDESC:Events for Buffalo Prep
REFRESH-INTERVAL;VALUE=DURATION:PT1H
X-Robots-Tag:noindex
X-PUBLISHED-TTL:PT1H
BEGIN:VTIMEZONE
TZID:America/New_York
BEGIN:DAYLIGHT
TZOFFSETFROM:-0500
TZOFFSETTO:-0400
TZNAME:EDT
DTSTART:20170312T070000
END:DAYLIGHT
BEGIN:STANDARD
TZOFFSETFROM:-0400
TZOFFSETTO:-0500
TZNAME:EST
DTSTART:20171105T060000
END:STANDARD
BEGIN:DAYLIGHT
TZOFFSETFROM:-0500
TZOFFSETTO:-0400
TZNAME:EDT
DTSTART:20180311T070000
END:DAYLIGHT
BEGIN:STANDARD
TZOFFSETFROM:-0400
TZOFFSETTO:-0500
TZNAME:EST
DTSTART:20181104T060000
END:STANDARD
BEGIN:DAYLIGHT
TZOFFSETFROM:-0500
TZOFFSETTO:-0400
TZNAME:EDT
DTSTART:20190310T070000
END:DAYLIGHT
BEGIN:STANDARD
TZOFFSETFROM:-0400
TZOFFSETTO:-0500
TZNAME:EST
DTSTART:20191103T060000
END:STANDARD
END:VTIMEZONE
BEGIN:VEVENT
DTSTART;TZID=America/New_York:20181023T160000
DTEND;TZID=America/New_York:20181023T170000
DTSTAMP:20260424T002530
CREATED:20180913T165155Z
LAST-MODIFIED:20180913T165155Z
UID:25373-1540310400-1540314000@buffaloprep.com
SUMMARY:College Prep - SUNY Oswego Representative Visit
DESCRIPTION:
URL:https://buffaloprep.com/event/college-prep-suny-oswego-representative-visit/
LOCATION:Buffalo Prep
CATEGORIES:College Prep
END:VEVENT
BEGIN:VEVENT
DTSTART;TZID=America/New_York:20181023T170000
DTEND;TZID=America/New_York:20181023T190000
DTSTAMP:20260424T002530
CREATED:20181004T162217Z
LAST-MODIFIED:20181004T162217Z
UID:25561-1540314000-1540321200@buffaloprep.com
SUMMARY:Family Council Social
DESCRIPTION:Snacks and beverages provided. \nThis is an evening to socialize and network with other Prep parents/guardians as we kick off the Family Council for the 2018-2019 school year.
URL:https://buffaloprep.com/event/family-council-social/
LOCATION:The Steer\, 3151 Main Street\, Buffalo\, NY\, 14214
CATEGORIES:College Prep,High School Prep,Middle School Prep
GEO:42.9499494;-78.8270188
X-APPLE-STRUCTURED-LOCATION;VALUE=URI;X-ADDRESS=The Steer 3151 Main Street Buffalo NY 14214;X-APPLE-RADIUS=500;X-TITLE=3151 Main Street:geo:-78.8270188,42.9499494
END:VEVENT
END:VCALENDAR