BEGIN:VCALENDAR
VERSION:2.0
PRODID:-//Buffalo Prep - ECPv6.15.20//NONSGML v1.0//EN
CALSCALE:GREGORIAN
METHOD:PUBLISH
X-WR-CALNAME:Buffalo Prep
X-ORIGINAL-URL:https://buffaloprep.com
X-WR-CALDESC:Events for Buffalo Prep
REFRESH-INTERVAL;VALUE=DURATION:PT1H
X-Robots-Tag:noindex
X-PUBLISHED-TTL:PT1H
BEGIN:VTIMEZONE
TZID:America/New_York
BEGIN:DAYLIGHT
TZOFFSETFROM:-0500
TZOFFSETTO:-0400
TZNAME:EDT
DTSTART:20180311T070000
END:DAYLIGHT
BEGIN:STANDARD
TZOFFSETFROM:-0400
TZOFFSETTO:-0500
TZNAME:EST
DTSTART:20181104T060000
END:STANDARD
BEGIN:DAYLIGHT
TZOFFSETFROM:-0500
TZOFFSETTO:-0400
TZNAME:EDT
DTSTART:20190310T070000
END:DAYLIGHT
BEGIN:STANDARD
TZOFFSETFROM:-0400
TZOFFSETTO:-0500
TZNAME:EST
DTSTART:20191103T060000
END:STANDARD
BEGIN:DAYLIGHT
TZOFFSETFROM:-0500
TZOFFSETTO:-0400
TZNAME:EDT
DTSTART:20200308T070000
END:DAYLIGHT
BEGIN:STANDARD
TZOFFSETFROM:-0400
TZOFFSETTO:-0500
TZNAME:EST
DTSTART:20201101T060000
END:STANDARD
END:VTIMEZONE
BEGIN:VEVENT
DTSTART;TZID=America/New_York:20190930T150000
DTEND;TZID=America/New_York:20190930T190000
DTSTAMP:20260424T212356
CREATED:20190927T152925Z
LAST-MODIFIED:20190927T152925Z
UID:27747-1569855600-1569870000@buffaloprep.com
SUMMARY:College Prep - Tutorial
DESCRIPTION:
URL:https://buffaloprep.com/event/college-prep-tutorial-20/2019-09-30/
LOCATION:Buffalo Prep\, NY
CATEGORIES:College Prep
GEO:40.7127753;-74.0059728
END:VEVENT
BEGIN:VEVENT
DTSTART;TZID=America/New_York:20190930T160000
DTEND;TZID=America/New_York:20190930T170000
DTSTAMP:20260424T212356
CREATED:20190927T150238Z
LAST-MODIFIED:20190927T150238Z
UID:27725-1569859200-1569862800@buffaloprep.com
SUMMARY:Barnard College Visit
DESCRIPTION:
URL:https://buffaloprep.com/event/barnard-college-visit/
LOCATION:Buffalo Prep\, Allen Hall - University at Buffalo South Campus\, Buffalo\, NY\, 14214\, United States
CATEGORIES:College Prep
GEO:42.9334868;-78.8439268
X-APPLE-STRUCTURED-LOCATION;VALUE=URI;X-ADDRESS=Buffalo Prep Allen Hall - University at Buffalo South Campus Buffalo NY 14214 United States;X-APPLE-RADIUS=500;X-TITLE=Allen Hall - University at Buffalo South Campus:geo:-78.8439268,42.9334868
END:VEVENT
END:VCALENDAR