BEGIN:VCALENDAR
VERSION:2.0
PRODID:-//Buffalo Prep - ECPv6.15.20//NONSGML v1.0//EN
CALSCALE:GREGORIAN
METHOD:PUBLISH
X-ORIGINAL-URL:https://buffaloprep.com
X-WR-CALDESC:Events for Buffalo Prep
REFRESH-INTERVAL;VALUE=DURATION:PT1H
X-Robots-Tag:noindex
X-PUBLISHED-TTL:PT1H
BEGIN:VTIMEZONE
TZID:America/New_York
BEGIN:DAYLIGHT
TZOFFSETFROM:-0500
TZOFFSETTO:-0400
TZNAME:EDT
DTSTART:20190310T070000
END:DAYLIGHT
BEGIN:STANDARD
TZOFFSETFROM:-0400
TZOFFSETTO:-0500
TZNAME:EST
DTSTART:20191103T060000
END:STANDARD
BEGIN:DAYLIGHT
TZOFFSETFROM:-0500
TZOFFSETTO:-0400
TZNAME:EDT
DTSTART:20200308T070000
END:DAYLIGHT
BEGIN:STANDARD
TZOFFSETFROM:-0400
TZOFFSETTO:-0500
TZNAME:EST
DTSTART:20201101T060000
END:STANDARD
BEGIN:DAYLIGHT
TZOFFSETFROM:-0500
TZOFFSETTO:-0400
TZNAME:EDT
DTSTART:20210314T070000
END:DAYLIGHT
BEGIN:STANDARD
TZOFFSETFROM:-0400
TZOFFSETTO:-0500
TZNAME:EST
DTSTART:20211107T060000
END:STANDARD
BEGIN:DAYLIGHT
TZOFFSETFROM:-0500
TZOFFSETTO:-0400
TZNAME:EDT
DTSTART:20220313T070000
END:DAYLIGHT
BEGIN:STANDARD
TZOFFSETFROM:-0400
TZOFFSETTO:-0500
TZNAME:EST
DTSTART:20221106T060000
END:STANDARD
BEGIN:DAYLIGHT
TZOFFSETFROM:-0500
TZOFFSETTO:-0400
TZNAME:EDT
DTSTART:20230312T070000
END:DAYLIGHT
BEGIN:STANDARD
TZOFFSETFROM:-0400
TZOFFSETTO:-0500
TZNAME:EST
DTSTART:20231105T060000
END:STANDARD
BEGIN:DAYLIGHT
TZOFFSETFROM:-0500
TZOFFSETTO:-0400
TZNAME:EDT
DTSTART:20240310T070000
END:DAYLIGHT
BEGIN:STANDARD
TZOFFSETFROM:-0400
TZOFFSETTO:-0500
TZNAME:EST
DTSTART:20241103T060000
END:STANDARD
BEGIN:DAYLIGHT
TZOFFSETFROM:-0500
TZOFFSETTO:-0400
TZNAME:EDT
DTSTART:20250309T070000
END:DAYLIGHT
BEGIN:STANDARD
TZOFFSETFROM:-0400
TZOFFSETTO:-0500
TZNAME:EST
DTSTART:20251102T060000
END:STANDARD
BEGIN:DAYLIGHT
TZOFFSETFROM:-0500
TZOFFSETTO:-0400
TZNAME:EDT
DTSTART:20260308T070000
END:DAYLIGHT
BEGIN:STANDARD
TZOFFSETFROM:-0400
TZOFFSETTO:-0500
TZNAME:EST
DTSTART:20261101T060000
END:STANDARD
END:VTIMEZONE
BEGIN:VEVENT
DTSTART;TZID=America/New_York:20200222T120000
DTEND;TZID=America/New_York:20200222T140000
DTSTAMP:20260423T064029
CREATED:20191002T174418Z
LAST-MODIFIED:20191002T174731Z
UID:27810-1582372800-1582380000@buffaloprep.com
SUMMARY:Mentor Me Program- Bowling
DESCRIPTION:
URL:https://buffaloprep.com/event/mentor-me-bowling/
LOCATION:Kenmore Lanes\, NY
CATEGORIES:College Prep,Events
GEO:40.7127753;-74.0059728
END:VEVENT
BEGIN:VEVENT
DTSTART;TZID=America/New_York:20241031T173000
DTEND;TZID=America/New_York:20241031T190000
DTSTAMP:20260423T064029
CREATED:20241011T181408Z
LAST-MODIFIED:20250219T182148Z
UID:29308-1730395800-1730401200@buffaloprep.com
SUMMARY:Trunk and Treat
DESCRIPTION:Join Buffalo Prep for a fun-filled evening with costumes & treats!
URL:https://buffaloprep.com/event/trunk-and-treat/
LOCATION:Buffalo Prep\, Allen Hall - University at Buffalo South Campus\, Buffalo\, NY\, 14214\, United States
CATEGORIES:College Prep,Events,High School Prep,Middle School Prep
GEO:42.9334868;-78.8439268
X-APPLE-STRUCTURED-LOCATION;VALUE=URI;X-ADDRESS=Buffalo Prep Allen Hall - University at Buffalo South Campus Buffalo NY 14214 United States;X-APPLE-RADIUS=500;X-TITLE=Allen Hall - University at Buffalo South Campus:geo:-78.8439268,42.9334868
END:VEVENT
BEGIN:VEVENT
DTSTART;TZID=America/New_York:20250501T180000
DTEND;TZID=America/New_York:20250501T220000
DTSTAMP:20260423T064029
CREATED:20250219T183358Z
LAST-MODIFIED:20250219T183358Z
UID:29392-1746122400-1746136800@buffaloprep.com
SUMMARY:Celebration: May 1\, 2025
DESCRIPTION:THURSDAY\, MAY 1\, 2025 – 6PM – BUFFALO NIAGARA CONVENTION CENTER BALLROOM \n\nBuffalo Prep’s Celebration event presented by M&T Bank honors Buffalo Prep’s graduating high school scholars as well as its steadfast and loyal supporters in the community. \nThis year\, we are proud to honor Rich Products Corporation for being steadfast partners to Buffalo Prep and for their impactful and steadfast philanthropy in supporting educational and racial equity.  We thank our honorees\, chairs: The Wajed Family\, and the entire Celebration committee for supporting this important event.
URL:https://buffaloprep.com/event/celebration-may-1-2025/
LOCATION:Buffalo Convention Center\, 153 Franklin St\, Buffalo\, NY\, 14202\, United States
CATEGORIES:College Prep,Events
END:VEVENT
END:VCALENDAR