BEGIN:VCALENDAR
VERSION:2.0
PRODID:-//Buffalo Prep - ECPv6.15.20//NONSGML v1.0//EN
CALSCALE:GREGORIAN
METHOD:PUBLISH
X-WR-CALNAME:Buffalo Prep
X-ORIGINAL-URL:https://buffaloprep.com
X-WR-CALDESC:Events for Buffalo Prep
REFRESH-INTERVAL;VALUE=DURATION:PT1H
X-Robots-Tag:noindex
X-PUBLISHED-TTL:PT1H
BEGIN:VTIMEZONE
TZID:America/New_York
BEGIN:DAYLIGHT
TZOFFSETFROM:-0500
TZOFFSETTO:-0400
TZNAME:EDT
DTSTART:20160313T070000
END:DAYLIGHT
BEGIN:STANDARD
TZOFFSETFROM:-0400
TZOFFSETTO:-0500
TZNAME:EST
DTSTART:20161106T060000
END:STANDARD
BEGIN:DAYLIGHT
TZOFFSETFROM:-0500
TZOFFSETTO:-0400
TZNAME:EDT
DTSTART:20170312T070000
END:DAYLIGHT
BEGIN:STANDARD
TZOFFSETFROM:-0400
TZOFFSETTO:-0500
TZNAME:EST
DTSTART:20171105T060000
END:STANDARD
BEGIN:DAYLIGHT
TZOFFSETFROM:-0500
TZOFFSETTO:-0400
TZNAME:EDT
DTSTART:20180311T070000
END:DAYLIGHT
BEGIN:STANDARD
TZOFFSETFROM:-0400
TZOFFSETTO:-0500
TZNAME:EST
DTSTART:20181104T060000
END:STANDARD
BEGIN:DAYLIGHT
TZOFFSETFROM:-0500
TZOFFSETTO:-0400
TZNAME:EDT
DTSTART:20190310T070000
END:DAYLIGHT
BEGIN:STANDARD
TZOFFSETFROM:-0400
TZOFFSETTO:-0500
TZNAME:EST
DTSTART:20191103T060000
END:STANDARD
END:VTIMEZONE
BEGIN:VEVENT
DTSTART;TZID=America/New_York:20171122T150000
DTEND;TZID=America/New_York:20171122T190000
DTSTAMP:20260423T034314
CREATED:20170828T145857Z
LAST-MODIFIED:20170828T145857Z
UID:24082-1511362800-1511377200@buffaloprep.com
SUMMARY:No College Prep Tutorial
DESCRIPTION:
URL:https://buffaloprep.com/event/no-college-prep-tutorial-2/2017-11-22/
LOCATION:The Park Country Club\, 4949 Sheridan Drive\, Williamsville\, NY\, 14221\, United States
CATEGORIES:College Prep
GEO:42.9500876;-78.8196215
X-APPLE-STRUCTURED-LOCATION;VALUE=URI;X-ADDRESS=The Park Country Club 4949 Sheridan Drive Williamsville NY 14221 United States;X-APPLE-RADIUS=500;X-TITLE=4949 Sheridan Drive:geo:-78.8196215,42.9500876
END:VEVENT
BEGIN:VEVENT
DTSTART;VALUE=DATE:20171123
DTEND;VALUE=DATE:20171124
DTSTAMP:20260423T034314
CREATED:20170906T151507Z
LAST-MODIFIED:20170906T151507Z
UID:24332-1511395200-1511481599@buffaloprep.com
SUMMARY:Office Closed
DESCRIPTION:
URL:https://buffaloprep.com/event/office-closed-2/2017-11-23/
LOCATION:The Park Country Club\, 4949 Sheridan Drive\, Williamsville\, NY\, 14221\, United States
CATEGORIES:College Prep,High School Prep,Holidays,Middle School Prep
GEO:42.9500876;-78.8196215
X-APPLE-STRUCTURED-LOCATION;VALUE=URI;X-ADDRESS=The Park Country Club 4949 Sheridan Drive Williamsville NY 14221 United States;X-APPLE-RADIUS=500;X-TITLE=4949 Sheridan Drive:geo:-78.8196215,42.9500876
END:VEVENT
BEGIN:VEVENT
DTSTART;TZID=America/New_York:20171123T080000
DTEND;TZID=America/New_York:20171123T170000
DTSTAMP:20260423T034314
CREATED:20170824T154822Z
LAST-MODIFIED:20170824T155627Z
UID:23780-1511424000-1511456400@buffaloprep.com
SUMMARY:No Classes\, No Tutorial (Thanksgiving)
DESCRIPTION:
URL:https://buffaloprep.com/event/no-classes-thanksgiving-no-tutorial/
LOCATION:The Park Country Club\, 4949 Sheridan Drive\, Williamsville\, NY\, 14221\, United States
CATEGORIES:College Prep,High School Prep
GEO:42.9500876;-78.8196215
X-APPLE-STRUCTURED-LOCATION;VALUE=URI;X-ADDRESS=The Park Country Club 4949 Sheridan Drive Williamsville NY 14221 United States;X-APPLE-RADIUS=500;X-TITLE=4949 Sheridan Drive:geo:-78.8196215,42.9500876
END:VEVENT
BEGIN:VEVENT
DTSTART;TZID=America/New_York:20171125T080000
DTEND;TZID=America/New_York:20171125T170000
DTSTAMP:20260423T034314
CREATED:20170824T154918Z
LAST-MODIFIED:20170824T155758Z
UID:23783-1511596800-1511629200@buffaloprep.com
SUMMARY:No Classes\, No Tutorial (Thanksgiving)
DESCRIPTION:
URL:https://buffaloprep.com/event/no-classes-no-tutorial-thanksgiving/
LOCATION:The Park Country Club\, 4949 Sheridan Drive\, Williamsville\, NY\, 14221\, United States
CATEGORIES:College Prep,High School Prep,Middle School Prep
GEO:42.9500876;-78.8196215
X-APPLE-STRUCTURED-LOCATION;VALUE=URI;X-ADDRESS=The Park Country Club 4949 Sheridan Drive Williamsville NY 14221 United States;X-APPLE-RADIUS=500;X-TITLE=4949 Sheridan Drive:geo:-78.8196215,42.9500876
END:VEVENT
BEGIN:VEVENT
DTSTART;TZID=America/New_York:20171127T150000
DTEND;TZID=America/New_York:20171127T190000
DTSTAMP:20260423T034314
CREATED:20170828T150009Z
LAST-MODIFIED:20170828T150009Z
UID:24084-1511794800-1511809200@buffaloprep.com
SUMMARY:College Prep Tutorial
DESCRIPTION:
URL:https://buffaloprep.com/event/college-prep-tutorial-6/2017-11-27/
LOCATION:The Park Country Club\, 4949 Sheridan Drive\, Williamsville\, NY\, 14221\, United States
CATEGORIES:College Prep
GEO:42.9500876;-78.8196215
X-APPLE-STRUCTURED-LOCATION;VALUE=URI;X-ADDRESS=The Park Country Club 4949 Sheridan Drive Williamsville NY 14221 United States;X-APPLE-RADIUS=500;X-TITLE=4949 Sheridan Drive:geo:-78.8196215,42.9500876
END:VEVENT
BEGIN:VEVENT
DTSTART;TZID=America/New_York:20171204T170000
DTEND;TZID=America/New_York:20171204T190000
DTSTAMP:20260423T034314
CREATED:20171204T211832Z
LAST-MODIFIED:20171204T211832Z
UID:24615-1512406800-1512414000@buffaloprep.com
SUMMARY:College Prep Holiday Party
DESCRIPTION:Please RSVP to Ms. Caitlin
URL:https://buffaloprep.com/event/college-prep-holiday-party-2/
LOCATION:The Park Country Club\, 4949 Sheridan Drive\, Williamsville\, NY\, 14221\, United States
CATEGORIES:College Prep
GEO:42.9500876;-78.8196215
X-APPLE-STRUCTURED-LOCATION;VALUE=URI;X-ADDRESS=The Park Country Club 4949 Sheridan Drive Williamsville NY 14221 United States;X-APPLE-RADIUS=500;X-TITLE=4949 Sheridan Drive:geo:-78.8196215,42.9500876
END:VEVENT
BEGIN:VEVENT
DTSTART;TZID=America/New_York:20171207T180000
DTEND;TZID=America/New_York:20171207T193000
DTSTAMP:20260423T034314
CREATED:20170824T155357Z
LAST-MODIFIED:20170824T155927Z
UID:23789-1512669600-1512675000@buffaloprep.com
SUMMARY:Alumni Spotlight Presentation
DESCRIPTION:
URL:https://buffaloprep.com/event/alumni-spotlight-presentation-2/
LOCATION:The Park Country Club\, 4949 Sheridan Drive\, Williamsville\, NY\, 14221\, United States
CATEGORIES:College Prep,High School Prep
GEO:42.9500876;-78.8196215
X-APPLE-STRUCTURED-LOCATION;VALUE=URI;X-ADDRESS=The Park Country Club 4949 Sheridan Drive Williamsville NY 14221 United States;X-APPLE-RADIUS=500;X-TITLE=4949 Sheridan Drive:geo:-78.8196215,42.9500876
END:VEVENT
BEGIN:VEVENT
DTSTART;TZID=America/New_York:20171218T150000
DTEND;TZID=America/New_York:20171218T190000
DTSTAMP:20260423T034314
CREATED:20170828T151429Z
LAST-MODIFIED:20170828T151429Z
UID:24097-1513609200-1513623600@buffaloprep.com
SUMMARY:College Prep Tutorial
DESCRIPTION:
URL:https://buffaloprep.com/event/college-prep-tutorial-7/
LOCATION:The Park Country Club\, 4949 Sheridan Drive\, Williamsville\, NY\, 14221\, United States
CATEGORIES:College Prep
GEO:42.9500876;-78.8196215
X-APPLE-STRUCTURED-LOCATION;VALUE=URI;X-ADDRESS=The Park Country Club 4949 Sheridan Drive Williamsville NY 14221 United States;X-APPLE-RADIUS=500;X-TITLE=4949 Sheridan Drive:geo:-78.8196215,42.9500876
END:VEVENT
BEGIN:VEVENT
DTSTART;TZID=America/New_York:20171219T080000
DTEND;TZID=America/New_York:20171219T170000
DTSTAMP:20260423T034314
CREATED:20170828T151513Z
LAST-MODIFIED:20170828T151513Z
UID:24099-1513670400-1513702800@buffaloprep.com
SUMMARY:No College Prep Tutorial (Holiday Break)
DESCRIPTION:
URL:https://buffaloprep.com/event/no-college-prep-tutorial-holiday-break/2017-12-19/
LOCATION:The Park Country Club\, 4949 Sheridan Drive\, Williamsville\, NY\, 14221\, United States
CATEGORIES:College Prep
GEO:42.9500876;-78.8196215
X-APPLE-STRUCTURED-LOCATION;VALUE=URI;X-ADDRESS=The Park Country Club 4949 Sheridan Drive Williamsville NY 14221 United States;X-APPLE-RADIUS=500;X-TITLE=4949 Sheridan Drive:geo:-78.8196215,42.9500876
END:VEVENT
BEGIN:VEVENT
DTSTART;TZID=America/New_York:20171219T170000
DTEND;TZID=America/New_York:20171219T190000
DTSTAMP:20260423T034314
CREATED:20171204T211321Z
LAST-MODIFIED:20171204T211743Z
UID:24610-1513702800-1513710000@buffaloprep.com
SUMMARY:College Prep Tutor Appreciation Holiday Party (Tutors Only)
DESCRIPTION:
URL:https://buffaloprep.com/event/college-prep-holiday-party/
LOCATION:The Park Country Club\, 4949 Sheridan Drive\, Williamsville\, NY\, 14221\, United States
CATEGORIES:College Prep
GEO:42.9500876;-78.8196215
X-APPLE-STRUCTURED-LOCATION;VALUE=URI;X-ADDRESS=The Park Country Club 4949 Sheridan Drive Williamsville NY 14221 United States;X-APPLE-RADIUS=500;X-TITLE=4949 Sheridan Drive:geo:-78.8196215,42.9500876
END:VEVENT
BEGIN:VEVENT
DTSTART;VALUE=DATE:20171225
DTEND;VALUE=DATE:20171226
DTSTAMP:20260423T034314
CREATED:20170906T151613Z
LAST-MODIFIED:20170906T151730Z
UID:24340-1514160000-1514246399@buffaloprep.com
SUMMARY:Office Closed
DESCRIPTION:
URL:https://buffaloprep.com/event/office-closed-3/2017-12-25/
LOCATION:The Park Country Club\, 4949 Sheridan Drive\, Williamsville\, NY\, 14221\, United States
CATEGORIES:College Prep,High School Prep,Holidays,Middle School Prep
GEO:42.9500876;-78.8196215
X-APPLE-STRUCTURED-LOCATION;VALUE=URI;X-ADDRESS=The Park Country Club 4949 Sheridan Drive Williamsville NY 14221 United States;X-APPLE-RADIUS=500;X-TITLE=4949 Sheridan Drive:geo:-78.8196215,42.9500876
END:VEVENT
BEGIN:VEVENT
DTSTART;TZID=America/New_York:20180103T150000
DTEND;TZID=America/New_York:20180103T190000
DTSTAMP:20260423T034314
CREATED:20170828T151554Z
LAST-MODIFIED:20170828T151554Z
UID:24115-1514991600-1515006000@buffaloprep.com
SUMMARY:College Prep Tutorial
DESCRIPTION:
URL:https://buffaloprep.com/event/college-prep-tutorial-8/2018-01-03/
LOCATION:The Park Country Club\, 4949 Sheridan Drive\, Williamsville\, NY\, 14221\, United States
CATEGORIES:College Prep
GEO:42.9500876;-78.8196215
X-APPLE-STRUCTURED-LOCATION;VALUE=URI;X-ADDRESS=The Park Country Club 4949 Sheridan Drive Williamsville NY 14221 United States;X-APPLE-RADIUS=500;X-TITLE=4949 Sheridan Drive:geo:-78.8196215,42.9500876
END:VEVENT
BEGIN:VEVENT
DTSTART;TZID=America/New_York:20180108T150000
DTEND;TZID=America/New_York:20180108T190000
DTSTAMP:20260423T034314
CREATED:20170828T151737Z
LAST-MODIFIED:20170828T151737Z
UID:24117-1515423600-1515438000@buffaloprep.com
SUMMARY:College Prep Tutorial
DESCRIPTION:
URL:https://buffaloprep.com/event/college-prep-tutorial-9/2018-01-08/
LOCATION:The Park Country Club\, 4949 Sheridan Drive\, Williamsville\, NY\, 14221\, United States
CATEGORIES:College Prep
GEO:42.9500876;-78.8196215
X-APPLE-STRUCTURED-LOCATION;VALUE=URI;X-ADDRESS=The Park Country Club 4949 Sheridan Drive Williamsville NY 14221 United States;X-APPLE-RADIUS=500;X-TITLE=4949 Sheridan Drive:geo:-78.8196215,42.9500876
END:VEVENT
BEGIN:VEVENT
DTSTART;TZID=America/New_York:20180113T080000
DTEND;TZID=America/New_York:20180113T170000
DTSTAMP:20260423T034314
CREATED:20170824T160343Z
LAST-MODIFIED:20170824T160343Z
UID:23798-1515830400-1515862800@buffaloprep.com
SUMMARY:No High School Prep Classes\, No Tutorial
DESCRIPTION:
URL:https://buffaloprep.com/event/no-high-school-prep-classes-no-tutorial/
LOCATION:The Park Country Club\, 4949 Sheridan Drive\, Williamsville\, NY\, 14221\, United States
CATEGORIES:College Prep,High School Prep
GEO:42.9500876;-78.8196215
X-APPLE-STRUCTURED-LOCATION;VALUE=URI;X-ADDRESS=The Park Country Club 4949 Sheridan Drive Williamsville NY 14221 United States;X-APPLE-RADIUS=500;X-TITLE=4949 Sheridan Drive:geo:-78.8196215,42.9500876
END:VEVENT
BEGIN:VEVENT
DTSTART;TZID=America/New_York:20180115T150000
DTEND;TZID=America/New_York:20180115T190000
DTSTAMP:20260423T034314
CREATED:20170828T152434Z
LAST-MODIFIED:20170828T152434Z
UID:24141-1516028400-1516042800@buffaloprep.com
SUMMARY:No College Prep Tutorial
DESCRIPTION:
URL:https://buffaloprep.com/event/no-college-prep-tutorial-3/
LOCATION:The Park Country Club\, 4949 Sheridan Drive\, Williamsville\, NY\, 14221\, United States
CATEGORIES:College Prep
GEO:42.9500876;-78.8196215
X-APPLE-STRUCTURED-LOCATION;VALUE=URI;X-ADDRESS=The Park Country Club 4949 Sheridan Drive Williamsville NY 14221 United States;X-APPLE-RADIUS=500;X-TITLE=4949 Sheridan Drive:geo:-78.8196215,42.9500876
END:VEVENT
BEGIN:VEVENT
DTSTART;TZID=America/New_York:20180208T180000
DTEND;TZID=America/New_York:20180208T193000
DTSTAMP:20260423T034314
CREATED:20170824T160754Z
LAST-MODIFIED:20170824T160754Z
UID:23802-1518112800-1518118200@buffaloprep.com
SUMMARY:Alumni Spotlight
DESCRIPTION:
URL:https://buffaloprep.com/event/alumni-spotlight/
LOCATION:The Park Country Club\, 4949 Sheridan Drive\, Williamsville\, NY\, 14221\, United States
CATEGORIES:College Prep,High School Prep
GEO:42.9500876;-78.8196215
X-APPLE-STRUCTURED-LOCATION;VALUE=URI;X-ADDRESS=The Park Country Club 4949 Sheridan Drive Williamsville NY 14221 United States;X-APPLE-RADIUS=500;X-TITLE=4949 Sheridan Drive:geo:-78.8196215,42.9500876
END:VEVENT
BEGIN:VEVENT
DTSTART;TZID=America/New_York:20180217T080000
DTEND;TZID=America/New_York:20180217T170000
DTSTAMP:20260423T034314
CREATED:20170828T152609Z
LAST-MODIFIED:20170828T152652Z
UID:24143-1518854400-1518886800@buffaloprep.com
SUMMARY:No College Prep Tutorial (Mid Winter Break)
DESCRIPTION:
URL:https://buffaloprep.com/event/no-college-prep-tutorial-4/2018-02-17/
LOCATION:The Park Country Club\, 4949 Sheridan Drive\, Williamsville\, NY\, 14221\, United States
CATEGORIES:College Prep
GEO:42.9500876;-78.8196215
X-APPLE-STRUCTURED-LOCATION;VALUE=URI;X-ADDRESS=The Park Country Club 4949 Sheridan Drive Williamsville NY 14221 United States;X-APPLE-RADIUS=500;X-TITLE=4949 Sheridan Drive:geo:-78.8196215,42.9500876
END:VEVENT
BEGIN:VEVENT
DTSTART;TZID=America/New_York:20180226T150000
DTEND;TZID=America/New_York:20180226T190000
DTSTAMP:20260423T034314
CREATED:20170828T153107Z
LAST-MODIFIED:20180306T170107Z
UID:24160-1519657200-1519671600@buffaloprep.com
SUMMARY:College Prep Tutorial
DESCRIPTION:
URL:https://buffaloprep.com/event/college-prep-tutorial-10/2018-02-26/
LOCATION:Buffalo Prep
CATEGORIES:College Prep
END:VEVENT
BEGIN:VEVENT
DTSTART;TZID=America/New_York:20180306T173000
DTEND;TZID=America/New_York:20180306T190000
DTSTAMP:20260423T034314
CREATED:20180212T163151Z
LAST-MODIFIED:20180212T163151Z
UID:24657-1520357400-1520362800@buffaloprep.com
SUMMARY:Mentor Me Information Session-Juniors
DESCRIPTION:
URL:https://buffaloprep.com/event/mentor-information-session-juniors/
LOCATION:Buffalo Prep
CATEGORIES:College Prep
END:VEVENT
BEGIN:VEVENT
DTSTART;TZID=America/New_York:20180310T083000
DTEND;TZID=America/New_York:20180310T153000
DTSTAMP:20260423T034314
CREATED:20170926T140513Z
LAST-MODIFIED:20170926T140513Z
UID:24443-1520670600-1520695800@buffaloprep.com
SUMMARY:Buffalo Prep Staff Retreat
DESCRIPTION:
URL:https://buffaloprep.com/event/buffalo-prep-staff-retreat/2018-03-10/
LOCATION:The Park Country Club\, 4949 Sheridan Drive\, Williamsville\, NY\, 14221\, United States
CATEGORIES:College Prep,High School Prep,Middle School Prep
GEO:42.9500876;-78.8196215
X-APPLE-STRUCTURED-LOCATION;VALUE=URI;X-ADDRESS=The Park Country Club 4949 Sheridan Drive Williamsville NY 14221 United States;X-APPLE-RADIUS=500;X-TITLE=4949 Sheridan Drive:geo:-78.8196215,42.9500876
END:VEVENT
BEGIN:VEVENT
DTSTART;TZID=America/New_York:20180331T080000
DTEND;TZID=America/New_York:20180331T170000
DTSTAMP:20260423T034314
CREATED:20170828T153252Z
LAST-MODIFIED:20180306T170239Z
UID:24181-1522483200-1522515600@buffaloprep.com
SUMMARY:No College Prep Tutorial (Spring Break)
DESCRIPTION:
URL:https://buffaloprep.com/event/no-college-prep-tutorial-spring-break/2018-03-31/
LOCATION:Buffalo Prep
CATEGORIES:College Prep
END:VEVENT
BEGIN:VEVENT
DTSTART;TZID=America/New_York:20180409T150000
DTEND;TZID=America/New_York:20180409T190000
DTSTAMP:20260423T034314
CREATED:20170828T153335Z
LAST-MODIFIED:20180306T165858Z
UID:24190-1523286000-1523300400@buffaloprep.com
SUMMARY:College Prep Tutorial
DESCRIPTION:
URL:https://buffaloprep.com/event/college-prep-tutorial-11/2018-04-09/
LOCATION:Buffalo Prep
CATEGORIES:College Prep
END:VEVENT
BEGIN:VEVENT
DTSTART;TZID=America/New_York:20180419T180000
DTEND;TZID=America/New_York:20180419T193000
DTSTAMP:20260423T034314
CREATED:20170824T161318Z
LAST-MODIFIED:20170824T161318Z
UID:23826-1524160800-1524166200@buffaloprep.com
SUMMARY:Alumni Spotlight
DESCRIPTION:
URL:https://buffaloprep.com/event/alumni-spotlight-2/
LOCATION:The Park Country Club\, 4949 Sheridan Drive\, Williamsville\, NY\, 14221\, United States
CATEGORIES:College Prep,High School Prep
GEO:42.9500876;-78.8196215
X-APPLE-STRUCTURED-LOCATION;VALUE=URI;X-ADDRESS=The Park Country Club 4949 Sheridan Drive Williamsville NY 14221 United States;X-APPLE-RADIUS=500;X-TITLE=4949 Sheridan Drive:geo:-78.8196215,42.9500876
END:VEVENT
BEGIN:VEVENT
DTSTART;TZID=America/New_York:20180528T080000
DTEND;TZID=America/New_York:20180528T170000
DTSTAMP:20260423T034314
CREATED:20170828T153516Z
LAST-MODIFIED:20180306T170630Z
UID:24219-1527494400-1527526800@buffaloprep.com
SUMMARY:No College Prep Tutorial (Memorial Day)
DESCRIPTION:
URL:https://buffaloprep.com/event/no-college-prep-tutorial-memorial-day/
LOCATION:Buffalo Prep
CATEGORIES:College Prep
END:VEVENT
BEGIN:VEVENT
DTSTART;TZID=America/New_York:20180529T150000
DTEND;TZID=America/New_York:20180529T190000
DTSTAMP:20260423T034314
CREATED:20170828T153805Z
LAST-MODIFIED:20180306T170707Z
UID:24221-1527606000-1527620400@buffaloprep.com
SUMMARY:College Prep Tutorial
DESCRIPTION:
URL:https://buffaloprep.com/event/college-prep-tutorial-12/2018-05-29/
LOCATION:Buffalo Prep
CATEGORIES:College Prep
END:VEVENT
BEGIN:VEVENT
DTSTART;TZID=America/New_York:20180604T150000
DTEND;TZID=America/New_York:20180604T190000
DTSTAMP:20260423T034314
CREATED:20170828T153844Z
LAST-MODIFIED:20180306T165408Z
UID:24223-1528124400-1528138800@buffaloprep.com
SUMMARY:College Prep Tutorial
DESCRIPTION:
URL:https://buffaloprep.com/event/college-prep-tutorial-13/2018-06-04/
LOCATION:Buffalo Prep
CATEGORIES:College Prep
END:VEVENT
BEGIN:VEVENT
DTSTART;TZID=America/New_York:20180911T150000
DTEND;TZID=America/New_York:20180911T190000
DTSTAMP:20260423T034314
CREATED:20180911T181716Z
LAST-MODIFIED:20180911T181716Z
UID:25288-1536678000-1536692400@buffaloprep.com
SUMMARY:College Prep Tutorial
DESCRIPTION:
URL:https://buffaloprep.com/event/college-prep-tutorial-14/2018-09-11/
LOCATION:Buffalo Prep
CATEGORIES:College Prep
END:VEVENT
BEGIN:VEVENT
DTSTART;TZID=America/New_York:20180917T180000
DTEND;TZID=America/New_York:20180917T200000
DTSTAMP:20260423T034314
CREATED:20180911T182136Z
LAST-MODIFIED:20180911T182136Z
UID:25342-1537207200-1537214400@buffaloprep.com
SUMMARY:College Prep - Daemen College Night
DESCRIPTION:One of the largest Colleges Fairs in the area… Daemen College Night to host over 150 colleges in their student center from 6:30-8:00pm on Monday \,September 17\, 2018.This College Fair is open to all high school students 9-12. A bus will depart from Buffalo Prep at 6:15 to transport students to and from the college fair. Students will receive a list of colleges attending and a reference sheet of possible admissions questions. Any questions or concerns\, please contact Mr. Johnson\, Director of College Counseling daj9@buffalo.edu Cell: 716-912-5011 Students must sign up ahead of time for transportation.
URL:https://buffaloprep.com/event/college-prep-daemen-college-night/
LOCATION:Buffalo Prep
CATEGORIES:College Prep
END:VEVENT
BEGIN:VEVENT
DTSTART;TZID=America/New_York:20180918T161500
DTEND;TZID=America/New_York:20180918T171500
DTSTAMP:20260423T034314
CREATED:20180913T153947Z
LAST-MODIFIED:20180913T153947Z
UID:25348-1537287300-1537290900@buffaloprep.com
SUMMARY:College Prep - Wells College Representative Visit
DESCRIPTION:
URL:https://buffaloprep.com/event/college-prep-wells-college-representative-visit/
LOCATION:Buffalo Prep
CATEGORIES:College Prep
END:VEVENT
BEGIN:VEVENT
DTSTART;TZID=America/New_York:20180918T163000
DTEND;TZID=America/New_York:20180918T173000
DTSTAMP:20260423T034314
CREATED:20180913T161824Z
LAST-MODIFIED:20180913T161824Z
UID:25350-1537288200-1537291800@buffaloprep.com
SUMMARY:College Prep - Allegheny College Representative Visit
DESCRIPTION:
URL:https://buffaloprep.com/event/college-prep-allegheny-college-representative-visit/
LOCATION:Buffalo Prep
CATEGORIES:College Prep
END:VEVENT
END:VCALENDAR