BEGIN:VCALENDAR
VERSION:2.0
PRODID:-//Buffalo Prep - ECPv6.15.20//NONSGML v1.0//EN
CALSCALE:GREGORIAN
METHOD:PUBLISH
X-ORIGINAL-URL:https://buffaloprep.com
X-WR-CALDESC:Events for Buffalo Prep
REFRESH-INTERVAL;VALUE=DURATION:PT1H
X-Robots-Tag:noindex
X-PUBLISHED-TTL:PT1H
BEGIN:VTIMEZONE
TZID:America/New_York
BEGIN:DAYLIGHT
TZOFFSETFROM:-0500
TZOFFSETTO:-0400
TZNAME:EDT
DTSTART:20170312T070000
END:DAYLIGHT
BEGIN:STANDARD
TZOFFSETFROM:-0400
TZOFFSETTO:-0500
TZNAME:EST
DTSTART:20171105T060000
END:STANDARD
BEGIN:DAYLIGHT
TZOFFSETFROM:-0500
TZOFFSETTO:-0400
TZNAME:EDT
DTSTART:20180311T070000
END:DAYLIGHT
BEGIN:STANDARD
TZOFFSETFROM:-0400
TZOFFSETTO:-0500
TZNAME:EST
DTSTART:20181104T060000
END:STANDARD
BEGIN:DAYLIGHT
TZOFFSETFROM:-0500
TZOFFSETTO:-0400
TZNAME:EDT
DTSTART:20190310T070000
END:DAYLIGHT
BEGIN:STANDARD
TZOFFSETFROM:-0400
TZOFFSETTO:-0500
TZNAME:EST
DTSTART:20191103T060000
END:STANDARD
BEGIN:DAYLIGHT
TZOFFSETFROM:-0500
TZOFFSETTO:-0400
TZNAME:EDT
DTSTART:20200308T070000
END:DAYLIGHT
BEGIN:STANDARD
TZOFFSETFROM:-0400
TZOFFSETTO:-0500
TZNAME:EST
DTSTART:20201101T060000
END:STANDARD
END:VTIMEZONE
BEGIN:VEVENT
DTSTART;TZID=America/New_York:20180919T160000
DTEND;TZID=America/New_York:20180919T170000
DTSTAMP:20260422T175903
CREATED:20180913T162255Z
LAST-MODIFIED:20180913T162255Z
UID:25352-1537372800-1537376400@buffaloprep.com
SUMMARY:College Prep - Cornell University Representative Visit
DESCRIPTION:
URL:https://buffaloprep.com/event/college-prep-cornell-university-representative-visit/
LOCATION:Buffalo Prep
CATEGORIES:College Prep
END:VEVENT
BEGIN:VEVENT
DTSTART;TZID=America/New_York:20180920T160000
DTEND;TZID=America/New_York:20180920T170000
DTSTAMP:20260422T175903
CREATED:20180913T162346Z
LAST-MODIFIED:20180913T162346Z
UID:25354-1537459200-1537462800@buffaloprep.com
SUMMARY:College Prep - Villanova University Representative Visit
DESCRIPTION:
URL:https://buffaloprep.com/event/college-prep-villanova-university-representative-visit/
LOCATION:The Park Country Club\, 4949 Sheridan Drive\, Williamsville\, NY\, 14221\, United States
CATEGORIES:College Prep
GEO:42.9500876;-78.8196215
X-APPLE-STRUCTURED-LOCATION;VALUE=URI;X-ADDRESS=The Park Country Club 4949 Sheridan Drive Williamsville NY 14221 United States;X-APPLE-RADIUS=500;X-TITLE=4949 Sheridan Drive:geo:-78.8196215,42.9500876
END:VEVENT
BEGIN:VEVENT
DTSTART;TZID=America/New_York:20181001T160000
DTEND;TZID=America/New_York:20181001T170000
DTSTAMP:20260422T175903
CREATED:20180913T162902Z
LAST-MODIFIED:20180913T162902Z
UID:25356-1538409600-1538413200@buffaloprep.com
SUMMARY:College Prep - Merrimack College Representative Visit
DESCRIPTION:
URL:https://buffaloprep.com/event/college-prep-merrimack-college-representative-visit/
LOCATION:The Park Country Club\, 4949 Sheridan Drive\, Williamsville\, NY\, 14221\, United States
CATEGORIES:College Prep
GEO:42.9500876;-78.8196215
X-APPLE-STRUCTURED-LOCATION;VALUE=URI;X-ADDRESS=The Park Country Club 4949 Sheridan Drive Williamsville NY 14221 United States;X-APPLE-RADIUS=500;X-TITLE=4949 Sheridan Drive:geo:-78.8196215,42.9500876
END:VEVENT
BEGIN:VEVENT
DTSTART;TZID=America/New_York:20181004T170000
DTEND;TZID=America/New_York:20181004T190000
DTSTAMP:20260422T175903
CREATED:20180925T190534Z
LAST-MODIFIED:20180925T190534Z
UID:25538-1538672400-1538679600@buffaloprep.com
SUMMARY:Prep Chat
DESCRIPTION:
URL:https://buffaloprep.com/event/prep-chat-5/2018-10-04/
LOCATION:Buffalo Prep
CATEGORIES:College Prep
END:VEVENT
BEGIN:VEVENT
DTSTART;TZID=America/New_York:20181004T180000
DTEND;TZID=America/New_York:20181004T190000
DTSTAMP:20260422T175903
CREATED:20180913T163737Z
LAST-MODIFIED:20180913T163737Z
UID:25358-1538676000-1538679600@buffaloprep.com
SUMMARY:College Prep - Financing Your College Education
DESCRIPTION:
URL:https://buffaloprep.com/event/college-prep-financing-your-college-education/
LOCATION:190 Kapoor Hall\, UB South Campus\, Buffalo\, NY\, 14214
CATEGORIES:College Prep
GEO:42.9534312;-78.8182286
X-APPLE-STRUCTURED-LOCATION;VALUE=URI;X-ADDRESS=190 Kapoor Hall UB South Campus Buffalo NY 14214;X-APPLE-RADIUS=500;X-TITLE=UB South Campus:geo:-78.8182286,42.9534312
END:VEVENT
BEGIN:VEVENT
DTSTART;TZID=America/New_York:20181008T083000
DTEND;TZID=America/New_York:20181008T140000
DTSTAMP:20260422T175903
CREATED:20180913T174357Z
LAST-MODIFIED:20180913T174357Z
UID:25470-1538987400-1539007200@buffaloprep.com
SUMMARY:Ad Club Day With AAF Buffalo
DESCRIPTION:Buffalo Prep and the American Advertising Federation of Buffalo present the 3rd Annual Buffalo Prep Ad Day where students will explore the world of advertising right in downtown Buffalo.  Students will spend the day learning about different roles in marketing agencies and putting their skills to work! Students who are interested should RSVP with Ms. Alexys.
URL:https://buffaloprep.com/event/ad-club-day-with-aaf-buffalo/
LOCATION:NY
CATEGORIES:College Prep
GEO:40.7127753;-74.0059728
END:VEVENT
BEGIN:VEVENT
DTSTART;TZID=America/New_York:20181010T160000
DTEND;TZID=America/New_York:20181010T170000
DTSTAMP:20260422T175903
CREATED:20180913T164057Z
LAST-MODIFIED:20180913T164057Z
UID:25360-1539187200-1539190800@buffaloprep.com
SUMMARY:College Prep - Keuka College Representative Visit
DESCRIPTION:
URL:https://buffaloprep.com/event/college-prep-keuka-college-representative-visit/
LOCATION:Buffalo Prep
CATEGORIES:College Prep
END:VEVENT
BEGIN:VEVENT
DTSTART;TZID=America/New_York:20181011T180000
DTEND;TZID=America/New_York:20181011T190000
DTSTAMP:20260422T175903
CREATED:20180913T164138Z
LAST-MODIFIED:20180913T164138Z
UID:25362-1539280800-1539284400@buffaloprep.com
SUMMARY:College Prep Handbook Parent Focus Group
DESCRIPTION:
URL:https://buffaloprep.com/event/college-prep-handbook-parent-focus-group/
LOCATION:Buffalo Prep
CATEGORIES:College Prep
END:VEVENT
BEGIN:VEVENT
DTSTART;TZID=America/New_York:20181013T100000
DTEND;TZID=America/New_York:20181013T110000
DTSTAMP:20260422T175903
CREATED:20180913T164227Z
LAST-MODIFIED:20180913T164227Z
UID:25365-1539424800-1539428400@buffaloprep.com
SUMMARY:College Prep Handbook Parent Focus Group
DESCRIPTION:
URL:https://buffaloprep.com/event/college-prep-handbook-parent-focus-group-2/
LOCATION:Buffalo Prep
CATEGORIES:College Prep
END:VEVENT
BEGIN:VEVENT
DTSTART;TZID=America/New_York:20181022T161500
DTEND;TZID=America/New_York:20181022T164500
DTSTAMP:20260422T175903
CREATED:20180913T165041Z
LAST-MODIFIED:20180913T165041Z
UID:25371-1540224900-1540226700@buffaloprep.com
SUMMARY:College Prep - Union College Representative Visit
DESCRIPTION:Admissions Representative Rachel Mcneil will visit Buffalo Prep to speak with students about their admissions process\, academic programs\, and other  opportunities available to students attended Union College. \n 
URL:https://buffaloprep.com/event/college-prep-union-college-representative-visit/
LOCATION:Buffalo Prep
CATEGORIES:College Prep
END:VEVENT
BEGIN:VEVENT
DTSTART;TZID=America/New_York:20181023T160000
DTEND;TZID=America/New_York:20181023T170000
DTSTAMP:20260422T175903
CREATED:20180913T165155Z
LAST-MODIFIED:20180913T165155Z
UID:25373-1540310400-1540314000@buffaloprep.com
SUMMARY:College Prep - SUNY Oswego Representative Visit
DESCRIPTION:
URL:https://buffaloprep.com/event/college-prep-suny-oswego-representative-visit/
LOCATION:Buffalo Prep
CATEGORIES:College Prep
END:VEVENT
BEGIN:VEVENT
DTSTART;TZID=America/New_York:20181023T170000
DTEND;TZID=America/New_York:20181023T190000
DTSTAMP:20260422T175903
CREATED:20181004T162217Z
LAST-MODIFIED:20181004T162217Z
UID:25561-1540314000-1540321200@buffaloprep.com
SUMMARY:Family Council Social
DESCRIPTION:Snacks and beverages provided. \nThis is an evening to socialize and network with other Prep parents/guardians as we kick off the Family Council for the 2018-2019 school year.
URL:https://buffaloprep.com/event/family-council-social/
LOCATION:The Steer\, 3151 Main Street\, Buffalo\, NY\, 14214
CATEGORIES:College Prep,High School Prep,Middle School Prep
GEO:42.9499494;-78.8270188
X-APPLE-STRUCTURED-LOCATION;VALUE=URI;X-ADDRESS=The Steer 3151 Main Street Buffalo NY 14214;X-APPLE-RADIUS=500;X-TITLE=3151 Main Street:geo:-78.8270188,42.9499494
END:VEVENT
BEGIN:VEVENT
DTSTART;TZID=America/New_York:20181101T163000
DTEND;TZID=America/New_York:20181101T173000
DTSTAMP:20260422T175903
CREATED:20180913T165258Z
LAST-MODIFIED:20180913T165258Z
UID:25375-1541089800-1541093400@buffaloprep.com
SUMMARY:College Prep - Skidmore College Representative Visit
DESCRIPTION:
URL:https://buffaloprep.com/event/college-prep-skidmore-college-representative-visit/
LOCATION:Buffalo Prep
CATEGORIES:College Prep
END:VEVENT
BEGIN:VEVENT
DTSTART;VALUE=DATE:20181122
DTEND;VALUE=DATE:20181123
DTSTAMP:20260422T175903
CREATED:20180913T165948Z
LAST-MODIFIED:20180913T190943Z
UID:25383-1542844800-1542931199@buffaloprep.com
SUMMARY:Buffalo Prep Closed
DESCRIPTION:
URL:https://buffaloprep.com/event/buffalo-prep-closed/2018-11-22/
LOCATION:Buffalo Prep\, Allen Hall - University at Buffalo South Campus\, Buffalo\, NY\, 14214\, United States
CATEGORIES:College Prep,High School Prep,Holidays
GEO:42.9334868;-78.8439268
X-APPLE-STRUCTURED-LOCATION;VALUE=URI;X-ADDRESS=Buffalo Prep Allen Hall - University at Buffalo South Campus Buffalo NY 14214 United States;X-APPLE-RADIUS=500;X-TITLE=Allen Hall - University at Buffalo South Campus:geo:-78.8439268,42.9334868
END:VEVENT
BEGIN:VEVENT
DTSTART;TZID=America/New_York:20181129T180000
DTEND;TZID=America/New_York:20181129T190000
DTSTAMP:20260422T175903
CREATED:20181024T140838Z
LAST-MODIFIED:20181024T140838Z
UID:25577-1543514400-1543518000@buffaloprep.com
SUMMARY:Family Council Meeting
DESCRIPTION:All parents of students who are enrolled in any Buffalo Prep program are welcome to attend!
URL:https://buffaloprep.com/event/family-council-meeting/2018-11-29/
LOCATION:Buffalo Prep\, Allen Hall - University at Buffalo South Campus\, Buffalo\, NY\, 14214\, United States
CATEGORIES:College Prep,High School Prep,Middle School Prep
GEO:42.9334868;-78.8439268
X-APPLE-STRUCTURED-LOCATION;VALUE=URI;X-ADDRESS=Buffalo Prep Allen Hall - University at Buffalo South Campus Buffalo NY 14214 United States;X-APPLE-RADIUS=500;X-TITLE=Allen Hall - University at Buffalo South Campus:geo:-78.8439268,42.9334868
END:VEVENT
BEGIN:VEVENT
DTSTART;TZID=America/New_York:20181210T163000
DTEND;TZID=America/New_York:20181210T190000
DTSTAMP:20260422T175903
CREATED:20181210T212316Z
LAST-MODIFIED:20181210T212316Z
UID:27049-1544459400-1544468400@buffaloprep.com
SUMMARY:Senior Portraits and Meeting
DESCRIPTION:
URL:https://buffaloprep.com/event/senior-portraits-and-meeting/
LOCATION:Buffalo Prep\, NY
CATEGORIES:College Prep
GEO:40.7127753;-74.0059728
END:VEVENT
BEGIN:VEVENT
DTSTART;VALUE=DATE:20181218
DTEND;VALUE=DATE:20181219
DTSTAMP:20260422T175903
CREATED:20181126T143653Z
LAST-MODIFIED:20181126T143653Z
UID:26632-1545091200-1545177599@buffaloprep.com
SUMMARY:College Prep Closed
DESCRIPTION:
URL:https://buffaloprep.com/event/college-prep-closed/2018-12-18/
LOCATION:Buffalo Prep\, Allen Hall - University at Buffalo South Campus\, Buffalo\, NY\, 14214\, United States
CATEGORIES:College Prep
GEO:42.9334868;-78.8439268
X-APPLE-STRUCTURED-LOCATION;VALUE=URI;X-ADDRESS=Buffalo Prep Allen Hall - University at Buffalo South Campus Buffalo NY 14214 United States;X-APPLE-RADIUS=500;X-TITLE=Allen Hall - University at Buffalo South Campus:geo:-78.8439268,42.9334868
END:VEVENT
BEGIN:VEVENT
DTSTART;VALUE=DATE:20181224
DTEND;VALUE=DATE:20190102
DTSTAMP:20260422T175903
CREATED:20180913T174013Z
LAST-MODIFIED:20180913T174013Z
UID:25465-1545609600-1546387199@buffaloprep.com
SUMMARY:Buffalo Prep Closed
DESCRIPTION:
URL:https://buffaloprep.com/event/buffalo-prep-closed-2/
LOCATION:Buffalo Prep\, Allen Hall - University at Buffalo South Campus\, Buffalo\, NY\, 14214\, United States
CATEGORIES:College Prep,High School Prep,Middle School Prep
GEO:42.9334868;-78.8439268
X-APPLE-STRUCTURED-LOCATION;VALUE=URI;X-ADDRESS=Buffalo Prep Allen Hall - University at Buffalo South Campus Buffalo NY 14214 United States;X-APPLE-RADIUS=500;X-TITLE=Allen Hall - University at Buffalo South Campus:geo:-78.8439268,42.9334868
END:VEVENT
BEGIN:VEVENT
DTSTART;TZID=America/New_York:20190103T150000
DTEND;TZID=America/New_York:20190103T190000
DTSTAMP:20260422T175903
CREATED:20190102T142308Z
LAST-MODIFIED:20190102T142308Z
UID:27081-1546527600-1546542000@buffaloprep.com
SUMMARY:College Prep Tutorial
DESCRIPTION:
URL:https://buffaloprep.com/event/college-prep-tutorial-15/
LOCATION:Buffalo Prep\, 18 Acheson Annex\, Buffalo\, NY\, 14214
CATEGORIES:College Prep
GEO:42.9334868;-78.8439268
X-APPLE-STRUCTURED-LOCATION;VALUE=URI;X-ADDRESS=Buffalo Prep 18 Acheson Annex Buffalo NY 14214;X-APPLE-RADIUS=500;X-TITLE=18 Acheson Annex:geo:-78.8439268,42.9334868
END:VEVENT
BEGIN:VEVENT
DTSTART;TZID=America/New_York:20190107T150000
DTEND;TZID=America/New_York:20190107T190000
DTSTAMP:20260422T175903
CREATED:20190102T142422Z
LAST-MODIFIED:20190102T142422Z
UID:27084-1546873200-1546887600@buffaloprep.com
SUMMARY:College Prep Tutorial
DESCRIPTION:
URL:https://buffaloprep.com/event/college-prep-tutorial-16/
LOCATION:Buffalo Prep\, 18 Acheson Annex\, Buffalo\, NY\, 14214
CATEGORIES:College Prep
GEO:42.9334868;-78.8439268
X-APPLE-STRUCTURED-LOCATION;VALUE=URI;X-ADDRESS=Buffalo Prep 18 Acheson Annex Buffalo NY 14214;X-APPLE-RADIUS=500;X-TITLE=18 Acheson Annex:geo:-78.8439268,42.9334868
END:VEVENT
BEGIN:VEVENT
DTSTART;TZID=America/New_York:20190108T030000
DTEND;TZID=America/New_York:20190108T190000
DTSTAMP:20260422T175903
CREATED:20190108T163810Z
LAST-MODIFIED:20190108T163810Z
UID:27109-1546916400-1546974000@buffaloprep.com
SUMMARY:College Prep Tutorial
DESCRIPTION:
URL:https://buffaloprep.com/event/college-prep-tutorial-17/
LOCATION:Buffalo Prep\, 18 Acheson Annex\, Buffalo\, NY\, 14214
CATEGORIES:College Prep
GEO:42.9334868;-78.8439268
X-APPLE-STRUCTURED-LOCATION;VALUE=URI;X-ADDRESS=Buffalo Prep 18 Acheson Annex Buffalo NY 14214;X-APPLE-RADIUS=500;X-TITLE=18 Acheson Annex:geo:-78.8439268,42.9334868
END:VEVENT
BEGIN:VEVENT
DTSTART;TZID=America/New_York:20190109T030000
DTEND;TZID=America/New_York:20190109T190000
DTSTAMP:20260422T175903
CREATED:20190108T163854Z
LAST-MODIFIED:20190108T163854Z
UID:27112-1547002800-1547060400@buffaloprep.com
SUMMARY:College Prep Tutorial
DESCRIPTION:
URL:https://buffaloprep.com/event/college-prep-tutorial-18/
LOCATION:The Park Country Club\, 4949 Sheridan Drive\, Williamsville\, NY\, 14221\, United States
CATEGORIES:College Prep
GEO:42.9500876;-78.8196215
X-APPLE-STRUCTURED-LOCATION;VALUE=URI;X-ADDRESS=The Park Country Club 4949 Sheridan Drive Williamsville NY 14221 United States;X-APPLE-RADIUS=500;X-TITLE=4949 Sheridan Drive:geo:-78.8196215,42.9500876
END:VEVENT
BEGIN:VEVENT
DTSTART;TZID=America/New_York:20190211T150000
DTEND;TZID=America/New_York:20190211T190000
DTSTAMP:20260422T175903
CREATED:20190211T183618Z
LAST-MODIFIED:20190211T183618Z
UID:27175-1549897200-1549911600@buffaloprep.com
SUMMARY:College Prep Tutorial
DESCRIPTION:
URL:https://buffaloprep.com/event/college-prep-tutorial-19/2019-02-11/
LOCATION:Buffalo Prep\, NY
CATEGORIES:College Prep
GEO:40.7127753;-74.0059728
END:VEVENT
BEGIN:VEVENT
DTSTART;TZID=America/New_York:20190211T163000
DTEND;TZID=America/New_York:20190211T183000
DTSTAMP:20260422T175903
CREATED:20190211T184006Z
LAST-MODIFIED:20190211T184006Z
UID:27235-1549902600-1549909800@buffaloprep.com
SUMMARY:SAT Prep Class
DESCRIPTION:
URL:https://buffaloprep.com/event/sat-prep-class/2019-02-11/
LOCATION:Buffalo Prep\, 18 Acheson Annex\, Buffalo\, NY\, 14214
CATEGORIES:College Prep
GEO:42.9334868;-78.8439268
X-APPLE-STRUCTURED-LOCATION;VALUE=URI;X-ADDRESS=Buffalo Prep 18 Acheson Annex Buffalo NY 14214;X-APPLE-RADIUS=500;X-TITLE=18 Acheson Annex:geo:-78.8439268,42.9334868
END:VEVENT
BEGIN:VEVENT
DTSTART;TZID=America/New_York:20190212T170000
DTEND;TZID=America/New_York:20190212T183000
DTSTAMP:20260422T175903
CREATED:20190211T184315Z
LAST-MODIFIED:20190211T184315Z
UID:27247-1549990800-1549996200@buffaloprep.com
SUMMARY:High School Prep Graduates Senior Class Meeting
DESCRIPTION:
URL:https://buffaloprep.com/event/high-school-prep-graduates-senior-class-meeting/
LOCATION:Buffalo Prep\, 18 Acheson Annex\, Buffalo\, NY\, 14214
CATEGORIES:College Prep
GEO:42.9334868;-78.8439268
X-APPLE-STRUCTURED-LOCATION;VALUE=URI;X-ADDRESS=Buffalo Prep 18 Acheson Annex Buffalo NY 14214;X-APPLE-RADIUS=500;X-TITLE=18 Acheson Annex:geo:-78.8439268,42.9334868
END:VEVENT
BEGIN:VEVENT
DTSTART;TZID=America/New_York:20190216T090000
DTEND;TZID=America/New_York:20190216T130000
DTSTAMP:20260422T175903
CREATED:20190211T184131Z
LAST-MODIFIED:20190211T184131Z
UID:27243-1550307600-1550322000@buffaloprep.com
SUMMARY:SAT Prep Class
DESCRIPTION:
URL:https://buffaloprep.com/event/sat-prep-class-2/2019-02-16/
LOCATION:The Park Country Club\, 4949 Sheridan Drive\, Williamsville\, NY\, 14221\, United States
CATEGORIES:College Prep
GEO:42.9500876;-78.8196215
X-APPLE-STRUCTURED-LOCATION;VALUE=URI;X-ADDRESS=The Park Country Club 4949 Sheridan Drive Williamsville NY 14221 United States;X-APPLE-RADIUS=500;X-TITLE=4949 Sheridan Drive:geo:-78.8196215,42.9500876
END:VEVENT
BEGIN:VEVENT
DTSTART;TZID=America/New_York:20190306T170000
DTEND;TZID=America/New_York:20190306T173000
DTSTAMP:20260422T175903
CREATED:20190306T160537Z
LAST-MODIFIED:20190306T160537Z
UID:27320-1551891600-1551893400@buffaloprep.com
SUMMARY:Chess Club Demo
DESCRIPTION:
URL:https://buffaloprep.com/event/chess-club-demo/
LOCATION:Buffalo Prep\, 18 Acheson Annex\, Buffalo\, NY\, 14214
CATEGORIES:College Prep
GEO:42.9334868;-78.8439268
X-APPLE-STRUCTURED-LOCATION;VALUE=URI;X-ADDRESS=Buffalo Prep 18 Acheson Annex Buffalo NY 14214;X-APPLE-RADIUS=500;X-TITLE=18 Acheson Annex:geo:-78.8439268,42.9334868
END:VEVENT
BEGIN:VEVENT
DTSTART;TZID=America/New_York:20190312T173000
DTEND;TZID=America/New_York:20190312T190000
DTSTAMP:20260422T175903
CREATED:20190215T172758Z
LAST-MODIFIED:20190215T172758Z
UID:27273-1552411800-1552417200@buffaloprep.com
SUMMARY:Prep Chat
DESCRIPTION:
URL:https://buffaloprep.com/event/prep-chat-6/2019-03-12/
LOCATION:NY
CATEGORIES:College Prep
GEO:40.7127753;-74.0059728
END:VEVENT
BEGIN:VEVENT
DTSTART;TZID=America/New_York:20190515T170000
DTEND;TZID=America/New_York:20190515T193000
DTSTAMP:20260422T175903
CREATED:20190426T134553Z
LAST-MODIFIED:20190426T134553Z
UID:27374-1557939600-1557948600@buffaloprep.com
SUMMARY:College Day
DESCRIPTION:
URL:https://buffaloprep.com/event/college-day/
LOCATION:Buffalo Prep\, 18 Acheson Annex\, Buffalo\, NY\, 14214
CATEGORIES:College Prep
GEO:42.9334868;-78.8439268
X-APPLE-STRUCTURED-LOCATION;VALUE=URI;X-ADDRESS=Buffalo Prep 18 Acheson Annex Buffalo NY 14214;X-APPLE-RADIUS=500;X-TITLE=18 Acheson Annex:geo:-78.8439268,42.9334868
END:VEVENT
BEGIN:VEVENT
DTSTART;VALUE=DATE:20190523
DTEND;VALUE=DATE:20190524
DTSTAMP:20260422T175903
CREATED:20190426T134802Z
LAST-MODIFIED:20190426T134802Z
UID:27377-1558569600-1558655999@buffaloprep.com
SUMMARY:Office Closed
DESCRIPTION:
URL:https://buffaloprep.com/event/office-closed-4/
LOCATION:The Park Country Club\, 4949 Sheridan Drive\, Williamsville\, NY\, 14221\, United States
CATEGORIES:College Prep,High School Prep,Middle School Prep
GEO:42.9500876;-78.8196215
X-APPLE-STRUCTURED-LOCATION;VALUE=URI;X-ADDRESS=The Park Country Club 4949 Sheridan Drive Williamsville NY 14221 United States;X-APPLE-RADIUS=500;X-TITLE=4949 Sheridan Drive:geo:-78.8196215,42.9500876
END:VEVENT
END:VCALENDAR